BEGIN:VCALENDAR
VERSION:2.0
PRODID:-//Theodor-Schwann-Kolleg - ECPv4.6.12//NONSGML v1.0//EN
CALSCALE:GREGORIAN
METHOD:PUBLISH
X-WR-CALNAME:Theodor-Schwann-Kolleg
X-ORIGINAL-URL:https://www.weiterbildungskolleg-neuss.de
X-WR-CALDESC:Veranstaltungen für Theodor-Schwann-Kolleg
BEGIN:VEVENT
DTSTART;TZID=Europe/Berlin:20170704T080000
DTEND;TZID=Europe/Berlin:20170705T170000
DTSTAMP:20260420T091014
CREATED:20180501T195254Z
LAST-MODIFIED:20180501T195652Z
UID:3133-1499155200-1499274000@www.weiterbildungskolleg-neuss.de
SUMMARY:Vocatium 2017
DESCRIPTION:Auch in diesem Jahr haben wir die Vocatium-Messe in der Mitsubishi Electric Halle in Düsseldorf besucht. \nUnsere Studierenden der gymnasialen Oberstufe haben mit großem Interesse ihre Termine bei vielen verschiedenen Ausstellern wahrgenommen und ihre Chance genutzt\, sich bei insgesamt 118 regionalen und überregionalen Ausstellern über Ausbildungs- und Karrieremöglichkeiten zu informieren. \nHier sehen Sie interessierte Studierende beim Gang durch die Messehalle. \n\n
URL:https://www.weiterbildungskolleg-neuss.de/veranstaltung/vocatium-2017/
CATEGORIES:Berufsorientierung
ATTACH;FMTTYPE=image/jpeg:https://www.weiterbildungskolleg-neuss.de/wp-content/uploads/2018/05/IMG_0338.jpg
END:VEVENT
END:VCALENDAR